BEGIN:VCALENDAR
VERSION:2.0
PRODID:-//ChamberMaster//Event Calendar 2.0//EN
METHOD:PUBLISH
X-PUBLISHED-TTL:P3D
REFRESH-INTERVAL:P3D
CALSCALE:GREGORIAN
BEGIN:VEVENT
DTSTART:20131019T160000Z
DTEND:20131019T220000Z
X-MICROSOFT-CDO-ALLDAYEVENT:FALSE
SUMMARY:Golf Tournament
DESCRIPTION:Watch an exciting golf tournament on Saturday\, Oct.19 from 9-3 p.m. at Moses Pointe\, Moses Lake. The tournament is free and open to the public.
X-ALT-DESC;FMTTYPE=text/html:Watch an exciting golf tournament on Saturday\, Oct.19 from 9-3 p.m. at Moses Pointe\, Moses Lake. The tournament is free and open to the public.
LOCATION:Moses Pointe\, Moses Lake\,
UID:e.40.10739
SEQUENCE:3
DTSTAMP:20260420T003114Z
URL:http://business.kittitascountychamber.com/events/details/golf-tournament-10-19-2013-10739
END:VEVENT

END:VCALENDAR
