BEGIN:VCALENDAR
VERSION:2.0
PRODID:-//ChamberMaster//Event Calendar 2.0//EN
METHOD:PUBLISH
X-PUBLISHED-TTL:P3D
REFRESH-INTERVAL:P3D
CALSCALE:GREGORIAN
BEGIN:VEVENT
DTSTART:20131020T160000Z
DTEND:20131020T220000Z
X-MICROSOFT-CDO-ALLDAYEVENT:FALSE
SUMMARY:Golf Tournament
DESCRIPTION:The competition continues as the golf tournament resumes on Sunday\, Oct. 20 from 9-3 p.m. at Moses Pointe\, Moses Lake. The tournament is free and open to the public. For more information visit www.cwu.edu/sport-clubs.
X-ALT-DESC;FMTTYPE=text/html:The competition continues as the golf tournament resumes on Sunday\, Oct. 20 from 9-3 p.m. at Moses Pointe\, Moses Lake. The tournament is free and open to the public. For more information visit www.cwu.edu/sport-clubs. 
LOCATION:Moses Pinte\, Moses Lake
UID:e.40.10742
SEQUENCE:3
DTSTAMP:20260420T003109Z
URL:http://business.kittitascountychamber.com/events/details/golf-tournament-10-20-2013-10742
END:VEVENT

END:VCALENDAR
