BEGIN:VCALENDAR
VERSION:2.0
PRODID:-//ChamberMaster//Event Calendar 2.0//EN
METHOD:PUBLISH
X-PUBLISHED-TTL:P3D
REFRESH-INTERVAL:P3D
CALSCALE:GREGORIAN
BEGIN:VEVENT
DTSTART:20140419T180000Z
DTEND:20140419T200000Z
X-MICROSOFT-CDO-ALLDAYEVENT:FALSE
SUMMARY:Got Drugs?
DESCRIPTION:Turn in your unused or expired medication for safe disposal.  This includes: over the counter medicines and vitamins. Saturday\, April 19th at the Cle Elum Police Station.  802 W. 2nd Street.\n\nSponsored By: RSVP and Volunteer Center of Kittitas County\; Cle Elum Roslyn- South Cle Elum Polices Departments\; Washington Sate Office of the Insurance Commissioner\, SHIBA Program and Kittitas County Community Network & Coalition
X-ALT-DESC;FMTTYPE=text/html:Turn in your unused or expired medication for safe disposal. &nbsp\;This includes: over the counter medicines and vitamins. Saturday\, April 19th at the Cle Elum Police Station. &nbsp\;802 W. 2nd&nbsp\;Street.<br />\nSponsored By: RSVP and Volunteer Center of Kittitas County\; Cle Elum Roslyn- South Cle Elum Polices Departments\; Washington Sate Office of the Insurance Commissioner\, SHIBA Program and Kittitas County Community Network &amp\; Coalition&nbsp\;
LOCATION:Cle Elum Police Station 802 W. 2nd. Street
UID:e.40.11314
SEQUENCE:3
DTSTAMP:20260419T144004Z
URL:http://business.kittitascountychamber.com/events/details/got-drugs-04-19-2014-11314
END:VEVENT

END:VCALENDAR
