BEGIN:VCALENDAR
VERSION:2.0
PRODID:-//ChamberMaster//Event Calendar 2.0//EN
METHOD:PUBLISH
X-PUBLISHED-TTL:P3D
REFRESH-INTERVAL:P3D
CALSCALE:GREGORIAN
BEGIN:VEVENT
DTSTART:20140309T000000Z
DTEND:20140309T053000Z
X-MICROSOFT-CDO-ALLDAYEVENT:FALSE
SUMMARY:Grange Dinner & Fundraiser Auction
DESCRIPTION:The Swauk-Teanaway Grange is hosting a Dinner & Fundraiser Auction on Saturday\, March 8th\, at the Cle Elum Eagles Club\, 220 N Pennsylvania Avenue\, Cle Elum. Social hour begins at 4:00 PM\, dinner will be served at 6:00 PM and the Live Auction will start at 7:30 PM. Dinner will be catered by Chef James Giaudrone\, owner of Cle Elum Crepe Company. Every dinner ticket holder will be entered in an end-of-auction raffle to win a 32" Samsung LED TV\, must be present to win! Tickets are available from Donna Carollo 509-674-2373.
X-ALT-DESC;FMTTYPE=text/html:The Swauk-Teanaway Grange is hosting a Dinner &amp\; Fundraiser Auction on Saturday\, March 8th\, at the Cle Elum Eagles Club\, 220 N Pennsylvania Avenue\, Cle Elum. Social hour begins at 4:00 PM\, dinner will be served at 6:00 PM and the Live Auction will start at 7:30 PM. Dinner will be catered by Chef James Giaudrone\, owner of Cle Elum Crepe Company. Every dinner ticket holder will be entered in an end-of-auction raffle to win a 32&quot\; Samsung LED TV\, must be present to win! Tickets are available from Donna Carollo 509-674-2373.
LOCATION:Cle Elum Eagles Club\, 220 N Pennsylvania Ave\, Cle Elum
UID:e.40.11135
SEQUENCE:3
DTSTAMP:20260419T161329Z
URL:http://business.kittitascountychamber.com/events/details/grange-dinner-fundraiser-auction-03-08-2014-11135
END:VEVENT

END:VCALENDAR
