BEGIN:VCALENDAR
VERSION:2.0
PRODID:-//ChamberMaster//Event Calendar 2.0//EN
METHOD:PUBLISH
X-PUBLISHED-TTL:P3D
REFRESH-INTERVAL:P3D
CALSCALE:GREGORIAN
BEGIN:VEVENT
DTSTART:20130420T190000Z
DTEND:20130420T220000Z
X-MICROSOFT-CDO-ALLDAYEVENT:FALSE
SUMMARY:Green Thumb Ganges
DESCRIPTION:Green Thumb Ganges Saturday\, April 20 Noon - 3 p.m. SURC East Patio Free\, open to everyone Celebrate Environmental Awareness week with the Center for Leadership and Community Engagement (CLCE)! Do your part to help keep our water resources clean by removing debris and litter from the Ellensburg Water Company Canal (The Ganges). Volunteers are encouraged to wear clothes that they don?t mind getting a little dirty. Snacks and water will be provided. Please register for this event by April 19 at 5 p.m. at www.takeactioncwu.com. Sponsors: CLCE\, RHA\, RHLC
X-ALT-DESC;FMTTYPE=text/html:Green Thumb Ganges Saturday\, April 20 Noon - 3 p.m. SURC East Patio Free\, open to everyone Celebrate Environmental Awareness week with the Center for Leadership and Community Engagement (CLCE)! Do your part to help keep our water resources clean by removing debris and litter from the Ellensburg Water Company Canal (The Ganges). Volunteers are encouraged to wear clothes that they don?t mind getting a little dirty. Snacks and water will be provided. Please register for this event by April 19 at 5 p.m. at www.takeactioncwu.com. Sponsors: CLCE\, RHA\, RHLC 
LOCATION:CWU Student Union and Recreation Center (SURC) East Patio
UID:e.40.10147
SEQUENCE:3
DTSTAMP:20260420T100154Z
URL:http://business.kittitascountychamber.com/events/details/green-thumb-ganges-04-20-2013-10147
END:VEVENT

END:VCALENDAR
