BEGIN:VCALENDAR
VERSION:2.0
PRODID:-//ChamberMaster//Event Calendar 2.0//EN
METHOD:PUBLISH
X-PUBLISHED-TTL:P3D
REFRESH-INTERVAL:P3D
CALSCALE:GREGORIAN
BEGIN:VEVENT
DTSTART:20131026T000000Z
DTEND:20131026T000000Z
X-MICROSOFT-CDO-ALLDAYEVENT:FALSE
SUMMARY:Harvest Fest
DESCRIPTION:Mountain  View Meadows Assisted Living & Kittitas Valley Health Presents...\n\nHarvest Fest!\n\n\n\nCome enjoy Trick or Treating\, Costume Contests\, Hay Rides\, BBQ Hot Dogs\, & Pumpkin Painting!\n\n\n\nOct. 25th\n\n5:00pm-7:00pm\n\n\n\n1008 E Mountain View Ave. \n\n\n\nFree & All ages!
X-ALT-DESC;FMTTYPE=text/html:Mountain &nbsp\;View Meadows Assisted Living &amp\; Kittitas&nbsp\;Valley Health Presents...<br />\nHarvest Fest!<br />\n<br />\nCome enjoy Trick or Treating\, Costume Contests\, Hay Rides\, BBQ Hot Dogs\, &amp\; Pumpkin Painting!<br />\n<br />\nOct. 25th<br />\n5:00pm-7:00pm<br />\n<br />\n1008 E Mountain View Ave.&nbsp\;<br />\n<br />\nFree &amp\; All ages!
LOCATION:1008 E Mountain View Ave.
UID:e.40.10809
SEQUENCE:3
DTSTAMP:20260420T003154Z
URL:http://business.kittitascountychamber.com/events/details/harvest-fest-10-25-2013-10809
END:VEVENT

END:VCALENDAR
