BEGIN:VCALENDAR
VERSION:2.0
PRODID:-//ChamberMaster//Event Calendar 2.0//EN
METHOD:PUBLISH
X-PUBLISHED-TTL:P3D
REFRESH-INTERVAL:P3D
CALSCALE:GREGORIAN
BEGIN:VEVENT
DTSTART:20130321T003000Z
DTEND:20130321T013000Z
X-MICROSOFT-CDO-ALLDAYEVENT:FALSE
SUMMARY:Healing Meditation Classes - Week 8: Spring Equinox Celebration
DESCRIPTION:This weekly healing meditation program is designed to help you to "Open\, Connect and Awaken" to the Creative Energy Source. As you enter into a meditative state you will become centered while also receiving intuitive healing energy. Through the use of the breath\, the sounds and vibrations of Tibetan Singing Bowls\, rattles\, drums and other objects\, Spirit works through me while working with the group and individual energy. Each class allows you to participate in a small group setting while receiving higher awareness and individual healing. Whether you are a novice or well versed in meditation I invite you to participate in your own journey through these classes. Join Karin Stanley at New Perspective Healing Center and bring a friend.\n\n	$10 per class - rsvp appreciated but not required.
X-ALT-DESC;FMTTYPE=text/html:<p>\n	This weekly healing meditation program is designed to help you to &ldquo\;Open\, Connect and Awaken&rdquo\; to the Creative Energy Source. As you enter into a meditative state you will become centered while also receiving intuitive healing energy. Through the use of the breath\, the sounds and vibrations of Tibetan Singing Bowls\, rattles\, drums and other objects\, Spirit works through me while working with the group and individual energy. Each class allows you to participate in a small group setting while receiving higher awareness and individual healing. Whether you are a novice or well versed in meditation I invite you to participate in your own journey through these classes. Join Karin Stanley at New Perspective Healing Center and bring a friend.</p>\n<p>\n	$10 per class - rsvp appreciated but not required.</p>\n
LOCATION:New Perspective Healing Center\, 5th & Pearl Historic 1888 Bldg Upstairs Ste 201\, Ellensburg WA
UID:e.40.9261
SEQUENCE:3
DTSTAMP:20260420T113814Z
URL:http://business.kittitascountychamber.com/events/details/healing-meditation-classes-week-8-spring-equinox-celebration-03-20-2013-9261
END:VEVENT

END:VCALENDAR
