BEGIN:VCALENDAR
VERSION:2.0
PRODID:-//ChamberMaster//Event Calendar 2.0//EN
METHOD:PUBLISH
X-PUBLISHED-TTL:P3D
REFRESH-INTERVAL:P3D
CALSCALE:GREGORIAN
BEGIN:VEVENT
DTSTART:20131102T160000Z
DTEND:20131102T230000Z
X-MICROSOFT-CDO-ALLDAYEVENT:FALSE
SUMMARY:Hearthstone Cottage Annual Holiday Bazaar
DESCRIPTION:2013 Hearthstone Cottage Annual Holiday Bazaar\n\n	The Hearthstone Annual Holiday bazaar feature's over 30 vendors of all different types: handmade jewelry\, quilts\, knitted & crocheted items\, toys\, gift baskets\, home d cor\, pet items\, wood art and a variety of homemade crafts. This year's Bazaar is sure to be a wondrous event for the whole family
X-ALT-DESC;FMTTYPE=text/html:<p>\n	<strong>2013 Hearthstone Cottage Annual Holiday Bazaar</strong></p>\n<p>\n	The Hearthstone Annual Holiday bazaar feature&rsquo\;s over 30 vendors of all different types: handmade jewelry\, quilts\, knitted &amp\; crocheted items\, toys\, gift baskets\, home d&eacute\;cor\, pet items\, wood art and a variety of homemade crafts. This year&rsquo\;s Bazaar is sure to be a wondrous event for the whole family</p>\n
LOCATION:802 East Mountain View Avenue Ellensburg WA
UID:e.40.8861
SEQUENCE:3
DTSTAMP:20260419T225102Z
URL:http://business.kittitascountychamber.com/events/details/hearthstone-cottage-annual-holiday-bazaar-11-02-2013-8861
END:VEVENT

END:VCALENDAR
