BEGIN:VCALENDAR
VERSION:2.0
PRODID:-//ChamberMaster//Event Calendar 2.0//EN
METHOD:PUBLISH
X-PUBLISHED-TTL:P3D
REFRESH-INTERVAL:P3D
CALSCALE:GREGORIAN
BEGIN:VEVENT
DTSTART:20130707T003000Z
DTEND:20130707T043000Z
X-MICROSOFT-CDO-ALLDAYEVENT:FALSE
SUMMARY:Heritage Festival
DESCRIPTION:Come to the Heritage Festival as part of the 2013 Cle Elum Pioneer Days!\n\nJuly 6th from 5:30pm-9:30pm at the Hawthorne Hall\n\n\n\n$6.00 cover charge\n\nKids under 10 are $3.00\n\n\n\nEthnic food & dancing hosted by the Ronald Community Club
X-ALT-DESC;FMTTYPE=text/html:Come to the Heritage Festival as part of the 2013 Cle Elum Pioneer Days!<br />\nJuly 6th from 5:30pm-9:30pm at the Hawthorne Hall<br />\n<br />\n$6.00 cover charge<br />\nKids under 10 are $3.00<br />\n<br />\nEthnic food &amp\; dancing hosted by the Ronald Community Club
LOCATION:Hawthorne Hall Ronald
UID:e.40.10367
SEQUENCE:3
DTSTAMP:20260420T050841Z
URL:http://business.kittitascountychamber.com/events/details/heritage-festival-07-06-2013-10367
END:VEVENT

END:VCALENDAR
