BEGIN:VCALENDAR
VERSION:2.0
PRODID:-//ChamberMaster//Event Calendar 2.0//EN
METHOD:PUBLISH
X-PUBLISHED-TTL:P3D
REFRESH-INTERVAL:P3D
CALSCALE:GREGORIAN
BEGIN:VEVENT
DTSTART:20190705T190000Z
DTEND:20190728T230000Z
X-MICROSOFT-CDO-ALLDAYEVENT:FALSE
SUMMARY:High Country Artist Linda Allegre and Red Barn Quilters Exhibit at the Carpenter Gallery
DESCRIPTION:High Country Artists Linda Allegre will be exhibiting her paintings and the Red Barn Quilters will be showing their quilts at this month-long show at the Carpenter House Gallery.
X-ALT-DESC;FMTTYPE=text/html:High Country Artists Linda Allegre will be exhibiting her paintings and the Red Barn Quilters will be showing their quilts at this month-long show at the Carpenter House Gallery.
LOCATION:Carpenter House Museum & Gallery 302 W. 3rd St. Cle Elum\, WA 98922
UID:e.40.25666
SEQUENCE:3
DTSTAMP:20260421T132308Z
URL:http://business.kittitascountychamber.com/events/details/high-country-artist-linda-allegre-and-red-barn-quilters-exhibit-at-the-carpenter-gallery-25666
END:VEVENT

END:VCALENDAR
