BEGIN:VCALENDAR
VERSION:2.0
PRODID:-//ChamberMaster//Event Calendar 2.0//EN
METHOD:PUBLISH
X-PUBLISHED-TTL:P3D
REFRESH-INTERVAL:P3D
CALSCALE:GREGORIAN
BEGIN:VEVENT
DTSTART;VALUE=DATE:20130831
DTEND;VALUE=DATE:20130902
TRANSP:TRANSPARENT
X-MICROSOFT-CDO-ALLDAYEVENT:TRUE
SUMMARY:High Country Log Show
DESCRIPTION:3rd Annual High Country Log Show
X-ALT-DESC;FMTTYPE=text/html:3rd Annual High Country Log Show
LOCATION:Runje Feild\, Roslyn\, WA
UID:e.40.10438
SEQUENCE:3
DTSTAMP:20260420T033122Z
URL:http://business.kittitascountychamber.com/events/details/high-country-log-show-08-31-2013-10438
END:VEVENT

END:VCALENDAR
