BEGIN:VCALENDAR
VERSION:2.0
PRODID:-//ChamberMaster//Event Calendar 2.0//EN
METHOD:PUBLISH
X-PUBLISHED-TTL:P3D
REFRESH-INTERVAL:P3D
CALSCALE:GREGORIAN
BEGIN:VEVENT
DTSTART:20130921T160000Z
DTEND:20130921T160000Z
X-MICROSOFT-CDO-ALLDAYEVENT:FALSE
SUMMARY:Hike for FISH
DESCRIPTION:Come and hike Manastash Ridge in support of the Ellensburg FISH Food Bank.\n\n\n\nWhen: 9:00 am Saturday\, September 21\, 2013\n\nWhere:  Manastash Ridge Trailhead off Cove Road\, Southwest of Ellensburg\n\nWhy: To support Ellensburg FISH Food Bank (www.kvfish.org)\n\nFee:  $10.00 per participant.  Entry fee support the food bank.\n\n    Please make checks payable to Molly Slothower/Hike the Ridge
X-ALT-DESC;FMTTYPE=text/html:Come and hike Manastash Ridge in support of the Ellensburg FISH Food Bank.<br />\n<br />\nWhen: 9:00 am Saturday\, September 21\, 2013<br />\nWhere:&nbsp\; Manastash Ridge Trailhead off Cove Road\, Southwest of Ellensburg<br />\nWhy: To support Ellensburg FISH Food Bank (www.kvfish.org)<br />\nFee:&nbsp\; $10.00 per participant.&nbsp\; Entry fee support the food bank.<br />\n&nbsp\;&nbsp\;&nbsp\;&nbsp\;Please make checks payable to Molly Slothower/Hike the Ridge
LOCATION:Manastash Trailhead. Cove Rd.
UID:e.40.10661
SEQUENCE:3
DTSTAMP:20260420T015426Z
URL:http://business.kittitascountychamber.com/events/details/hike-for-fish-09-21-2013-10661
END:VEVENT

END:VCALENDAR
