BEGIN:VCALENDAR
VERSION:2.0
PRODID:-//ChamberMaster//Event Calendar 2.0//EN
METHOD:PUBLISH
X-PUBLISHED-TTL:P3D
REFRESH-INTERVAL:P3D
CALSCALE:GREGORIAN
BEGIN:VEVENT
DTSTART:20131207T180000Z
DTEND:20131207T230000Z
X-MICROSOFT-CDO-ALLDAYEVENT:FALSE
SUMMARY:Holiday Bazaar at Kittitas Secondary School
DESCRIPTION:Hosted by the Kittitas Secondary School Junior Class\, this holiday bazaar includes a wide variety of products and vendors including\, but not limited to\, jewelry\, wreaths\, plants\, dog treats\, Mary Kay\, Omni\, Essential Oils\, 31 Bags\, Booster Club Spirit Wear\, handmade gifts\, paintings\, and more.\n\n\n\nMore vendors welcome!\n\n\n\nSoup lunch will also be available.
X-ALT-DESC;FMTTYPE=text/html:Hosted by the Kittitas&nbsp\;Secondary School Junior Class\, this holiday bazaar includes a wide variety of products and vendors including\, but not limited to\, jewelry\, wreaths\, plants\, dog treats\, Mary Kay\, Omni\, Essential Oils\, 31 Bags\, Booster Club Spirit Wear\, handmade gifts\, paintings\, and more.<br />\n<br />\nMore vendors welcome!<br />\n<br />\nSoup lunch will also be available.
LOCATION:Kittitas Secondary School Commons 7571 Kittitas Hwy Kittitas\, WA
UID:e.40.10856
SEQUENCE:3
DTSTAMP:20260419T210732Z
URL:http://business.kittitascountychamber.com/events/details/holiday-bazaar-at-kittitas-secondary-school-12-07-2013-10856
END:VEVENT

END:VCALENDAR
