BEGIN:VCALENDAR
VERSION:2.0
PRODID:-//ChamberMaster//Event Calendar 2.0//EN
METHOD:PUBLISH
X-PUBLISHED-TTL:P3D
REFRESH-INTERVAL:P3D
CALSCALE:GREGORIAN
BEGIN:VEVENT
DTSTART:20121214T010000Z
DTEND:20121214T030000Z
X-MICROSOFT-CDO-ALLDAYEVENT:FALSE
SUMMARY:Holiday Business After Hours- Upper County
DESCRIPTION:Holiday Business After Hours - Hosted by The Kittitas County Chamber of Commerce
X-ALT-DESC;FMTTYPE=text/html:Holiday Business After Hours - Hosted by The Kittitas County Chamber of Commerce
LOCATION:Stone House 101 101 Second Street Roslyn\, WA
UID:e.40.8864
SEQUENCE:3
DTSTAMP:20260420T182756Z
URL:http://business.kittitascountychamber.com/events/details/holiday-business-after-hours-upper-county-12-13-2012-8864
END:VEVENT

END:VCALENDAR
