BEGIN:VCALENDAR
VERSION:2.0
PRODID:-//ChamberMaster//Event Calendar 2.0//EN
METHOD:PUBLISH
X-PUBLISHED-TTL:P3D
REFRESH-INTERVAL:P3D
CALSCALE:GREGORIAN
BEGIN:VEVENT
DTSTART:20131207T180000Z
DTEND:20131207T220000Z
X-MICROSOFT-CDO-ALLDAYEVENT:FALSE
SUMMARY:Holiday Extravaganza
DESCRIPTION:Holiday Extravaganza Dec. 7 10 a.m. to 2 p.m. SURC Central Marketplace CWUs Center for Leadership and Community Engagement (CLCE) adds a festive twist to fostering public awareness and leadership with the annual Holiday Extravaganza. Bring the family Friday\, Dec. 7 from 10 a.m. to 2 p.m. to the Student Union and Recreation Center (SURC) Central Marketplace for a fun day of arts and crafts for children kindergarten through fifth grade. This event never fails to draw in hundreds of children\, as well as 150 CWU student volunteers who will help attendees create handmade holiday decorations at over forty unique craft stations. This event is a fun and exciting way for children to learn about other culture?s holiday celebrations\, as the craft stations will include fun and functional d cor for holidays including Christmas\, Kwanzaa\, Hanukah and secular crafts. Don't miss this event that is sure to bring holiday spirit to the CWU and Ellensburg communities. For more information please contact Amber Plotke at 509-963-1850 or clce@cwu.edu.
X-ALT-DESC;FMTTYPE=text/html:Holiday Extravaganza Dec. 7 10 a.m. to 2 p.m. SURC Central Marketplace CWUs Center for Leadership and Community Engagement (CLCE) adds a festive twist to fostering public awareness and leadership with the annual Holiday Extravaganza. Bring the family Friday\, Dec. 7 from 10 a.m. to 2 p.m. to the Student Union and Recreation Center (SURC) Central Marketplace for a fun day of arts and crafts for children kindergarten through fifth grade. This event never fails to draw in hundreds of children\, as well as 150 CWU student volunteers who will help attendees create handmade holiday decorations at over forty unique craft stations. This event is a fun and exciting way for children to learn about other culture?s holiday celebrations\, as the craft stations will include fun and functional d&eacute\;cor for holidays including Christmas\, Kwanzaa\, Hanukah and secular crafts. Don&#39\;t miss this event that is sure to bring holiday spirit to the CWU and Ellensburg communities. For more information please contact Amber Plotke at 509-963-1850 or clce@cwu.edu. 
LOCATION:CWU Student Union and Recreation Center (SURC) Central Marketplace
UID:e.40.10828
SEQUENCE:3
DTSTAMP:20260419T210733Z
URL:http://business.kittitascountychamber.com/events/details/holiday-extravaganza-12-07-2013-10828
END:VEVENT

END:VCALENDAR
