BEGIN:VCALENDAR
VERSION:2.0
PRODID:-//ChamberMaster//Event Calendar 2.0//EN
METHOD:PUBLISH
X-PUBLISHED-TTL:P3D
REFRESH-INTERVAL:P3D
CALSCALE:GREGORIAN
BEGIN:VEVENT
DTSTART:20131215T010000Z
DTEND:20131215T060000Z
X-MICROSOFT-CDO-ALLDAYEVENT:FALSE
SUMMARY:Holidays at the Improv
DESCRIPTION:Sponsored by Kelleher Motor Company Tickets are $25 for dinner catered by Cascade Mountain Grilling and a comedy improv show. Come early for a no-host social hour featuring live music and then enjoy dinner followed by an Improv Show by Central Improv. Tickets available now at Yakima Federal Savings and Loan at the corner of 5th and Pine Street. Don't miss a terrific night of food\, fun\, and lots of laughs!
X-ALT-DESC;FMTTYPE=text/html:<strong>Sponsored by Kelleher Motor Company</strong> Tickets are $25 for dinner catered by Cascade Mountain Grilling and a comedy improv show. Come early for a no-host social hour featuring live music and then enjoy dinner followed by an Improv Show by Central Improv. Tickets available now at Yakima Federal Savings and Loan at the corner of 5th and Pine Street. Don&rsquo\;t miss a terrific night of food\, fun\, and lots of laughs!
LOCATION:Kelleher Motor Company 602 N. Pearl St Ellensburg
UID:e.40.10880
SEQUENCE:3
DTSTAMP:20260419T210942Z
URL:http://business.kittitascountychamber.com/events/details/holidays-at-the-improv-12-14-2013-10880
END:VEVENT

END:VCALENDAR
