BEGIN:VCALENDAR
VERSION:2.0
PRODID:-//ChamberMaster//Event Calendar 2.0//EN
METHOD:PUBLISH
X-PUBLISHED-TTL:P3D
REFRESH-INTERVAL:P3D
CALSCALE:GREGORIAN
BEGIN:VEVENT
DTSTART:20131207T180000Z
DTEND:20131207T230000Z
X-MICROSOFT-CDO-ALLDAYEVENT:FALSE
SUMMARY:Home Video Studio Holiday Open House
DESCRIPTION:Home Video Studio is having a Holiday Open House for all former\, current & future customers.  All members of the public are welcome. There will be Refreshments\, Studio Tours\, Door Prizes\, Contests\, Christmas Video Bloopers and more. Open House Specials:  1. 15-25% Off of any order brought in to the Open House (Pick your discount from under the tree)  2. $20 Gift Certificate to any current or former customer who brings a NEW Customer with them to the Open House.  3. $25 Custom Video Holiday Cards for filmed & produced for your family.
X-ALT-DESC;FMTTYPE=text/html:Home Video Studio is having a Holiday Open House for all former\, current &amp\; future customers. &nbsp\;All members of the public are welcome. There will be Refreshments\, Studio Tours\, Door Prizes\, Contests\, Christmas Video Bloopers and more. Open House Specials: &nbsp\;1. 15-25% Off of any order brought in to the Open House (Pick your discount from under the tree) &nbsp\;2. $20 Gift Certificate to any current or former customer who brings a NEW Customer with them to the Open House. &nbsp\;3. $25 Custom Video Holiday Cards for filmed &amp\; produced for your family.
LOCATION:2217 N. Water St. Ellensburg\, WA 98926
UID:e.40.10870
SEQUENCE:3
DTSTAMP:20260419T210942Z
URL:http://business.kittitascountychamber.com/events/details/home-video-studio-holiday-open-house-12-07-2013-10870
END:VEVENT

END:VCALENDAR
