BEGIN:VCALENDAR
VERSION:2.0
PRODID:-//ChamberMaster//Event Calendar 2.0//EN
METHOD:PUBLISH
X-PUBLISHED-TTL:P3D
REFRESH-INTERVAL:P3D
CALSCALE:GREGORIAN
BEGIN:VEVENT
DTSTART;VALUE=DATE:20131201
DTEND;VALUE=DATE:20131222
TRANSP:TRANSPARENT
X-MICROSOFT-CDO-ALLDAYEVENT:TRUE
SUMMARY:Hometown Holidays
DESCRIPTION:Ellensburg Downtown Association brings you "Hometown Holidays" for the first - nineteenth of December.\n\nPlease check their website for complete calendar of events\n\n\n\nwww.ellensburgdowntown.org
X-ALT-DESC;FMTTYPE=text/html:Ellensburg Downtown Association brings you &quot\;Hometown Holidays&quot\; for the first - nineteenth of December.<br />\nPlease check their website for complete calendar of events<br />\n<br />\n<a href="http://www.ellensburgdowntown.org">www.ellensburgdowntown.org</a>&nbsp\;
LOCATION:Various locations around town
UID:e.40.10866
SEQUENCE:3
DTSTAMP:20260419T210802Z
URL:http://business.kittitascountychamber.com/events/details/hometown-holidays-12-01-2013-10866
END:VEVENT

END:VCALENDAR
