BEGIN:VCALENDAR
VERSION:2.0
PRODID:-//ChamberMaster//Event Calendar 2.0//EN
METHOD:PUBLISH
X-PUBLISHED-TTL:P3D
REFRESH-INTERVAL:P3D
CALSCALE:GREGORIAN
BEGIN:VEVENT
DTSTART:20131020T010000Z
DTEND:20131020T030000Z
X-MICROSOFT-CDO-ALLDAYEVENT:FALSE
SUMMARY:HopeSource Farm To Table Fundraiser Dinner
DESCRIPTION:Join us for a Farm To Table Dinner to raise funds for the HopeSource Upper County Food Bank. Ticket prices include a delicious and locally sourced menu and two glasses of wine or beer. All proceeds benefit the Upper County food bank.
X-ALT-DESC;FMTTYPE=text/html:Join us for a Farm To Table Dinner to raise funds for the HopeSource Upper County Food Bank. Ticket prices include a delicious and locally sourced menu and two glasses of wine or beer. All proceeds benefit the Upper County food bank. 
LOCATION:Stonehouse 101\, 101 N 2nd St\, Roslyn
UID:e.40.10695
SEQUENCE:3
DTSTAMP:20260420T003024Z
URL:http://business.kittitascountychamber.com/events/details/hopesource-farm-to-table-fundraiser-dinner-10-19-2013-10695
END:VEVENT

END:VCALENDAR
