BEGIN:VCALENDAR
VERSION:2.0
PRODID:-//ChamberMaster//Event Calendar 2.0//EN
METHOD:PUBLISH
X-PUBLISHED-TTL:P3D
REFRESH-INTERVAL:P3D
CALSCALE:GREGORIAN
BEGIN:VEVENT
DTSTART:20130706T200000Z
DTEND:20130706T200000Z
X-MICROSOFT-CDO-ALLDAYEVENT:FALSE
SUMMARY:Horseshoe Contest
DESCRIPTION:Ray Kladnik & Gene Sandona Memorial Horseshoe Contest! Part of the 2013 Cle Elum Pioneer Days!\n\n\n\nLocated at Cle Elum City Park- W 2nd Ave.\n\n\n\nCash Prizes!\n\n\n\nRegistration from 10:00am-Noon\n\n\n\nEntry Fee: $25.00 first 16 teams
X-ALT-DESC;FMTTYPE=text/html:Ray Kladnik &amp\; Gene Sandona&nbsp\;Memorial Horseshoe Contest! Part of the 2013 Cle Elum Pioneer Days!<br />\n<br />\nLocated at Cle Elum&nbsp\;City Park- W 2nd&nbsp\;Ave.<br />\n<br />\nCash Prizes!<br />\n<br />\nRegistration from 10:00am-Noon<br />\n<br />\nEntry Fee: $25.00 first 16 teams<br />\n<br />\n
LOCATION:Cle Elum City Park (W 2nd Ave.)
UID:e.40.10369
SEQUENCE:3
DTSTAMP:20260420T050609Z
URL:http://business.kittitascountychamber.com/events/details/horseshoe-contest-07-06-2013-10369
END:VEVENT

END:VCALENDAR
