BEGIN:VCALENDAR
VERSION:2.0
PRODID:-//ChamberMaster//Event Calendar 2.0//EN
METHOD:PUBLISH
X-PUBLISHED-TTL:P3D
REFRESH-INTERVAL:P3D
CALSCALE:GREGORIAN
BEGIN:VEVENT
DTSTART:20191026T170000Z
DTEND:20191026T230000Z
X-MICROSOFT-CDO-ALLDAYEVENT:FALSE
SUMMARY:Huffman Farms
DESCRIPTION:This fall\, starting on September 28th\, Huffman Farms will be open every weekend through October 27th offering a variety of attractions and events for guests of all ages. Attractions include a free petting zoo and hayrides\, a haunted forest and corn maze\, home-cooked meals and more. Huffman Farms is located at 6181 Wilson Creek Rd\, Ellensburg\, WA 98926. Check out all of the information at https://www.huffmanfarms.com/index.html.
X-ALT-DESC;FMTTYPE=text/html:This fall\, starting on September 28th\, Huffman Farms will be open every weekend through October 27th offering a variety of attractions and events for guests of all ages. Attractions include a free petting zoo and hayrides\, a haunted forest and corn maze\, home-cooked meals and more. Huffman Farms is located at 6181 Wilson Creek Rd\, Ellensburg\, WA 98926. Check out all of the information at https://www.huffmanfarms.com/index.html.
LOCATION:6181 Wilson Creek Rd\, Ellensburg\, WA 98926
UID:e.40.25943
SEQUENCE:3
DTSTAMP:20260419T165456Z
URL:http://business.kittitascountychamber.com/events/details/huffman-farms-10-26-2019-25943
END:VEVENT

END:VCALENDAR
