BEGIN:VCALENDAR
VERSION:2.0
PRODID:-//ChamberMaster//Event Calendar 2.0//EN
METHOD:PUBLISH
X-PUBLISHED-TTL:P3D
REFRESH-INTERVAL:P3D
CALSCALE:GREGORIAN
BEGIN:VEVENT
DTSTART:20131017T210000Z
DTEND:20131017T230000Z
X-MICROSOFT-CDO-ALLDAYEVENT:FALSE
SUMMARY:Innovation and Entrepreneurship Speaker Series
DESCRIPTION:Theme: "Entrepreneurship Development and Finding a Better Way Through Innovation"\n\n2:00pm  Speaker Panel and Q/A   Entrepreneurship Development\n\nMaury Forman\, PhD\n\nSr. Manager\, WA Dept. of Commerce\n\n"Creating an Entrepreneurial Community"\n\n \n\n            Chris Martin\n\nEntrepreneur & Venture Capitalist\n\nFounder/President   CleanScapes\, a Recology Company\n\n"The CleanScapes Story"\n\n \n\nWilliam Reichlin \n\nEntrepreneur   Colockum Craft Brewery (Kittitas)\n\nCWU student (Senior\, major: Chemistry)\n\n2nd place\, 2013 Business Plan Competition\n\n"So You Want to Be an Entrepreneur   Experience from the Front-line" \n\n \n\nKick-off 2014 Student Business Plan Competition\n\nRoy Savoian\, Director\, I4IE \n\n \n\n3:00pm    I&E Featured Speaker: Presentation and Q/A            \n\nVince Bryan\, II\, MD\n\nRetired Neurosurgeon (Seattle)\n\nInventor\; Owner\, Cave B Estate Winery (Quincy)\n\n \n\n"Is There a Better Way? INNOVATION" \n\n(From the Artificial Spinal Disc to the Apple Harvesting Machine & Flying Fish)\n\n                                   \n\n4:00pm           Adjourn
X-ALT-DESC;FMTTYPE=text/html:<span style="font-size: 12pt\;"><span style="font-family: arial\,sans-serif\;">Theme: &ldquo\;Entrepreneurship Development and Finding a Better Way Through Innovation&rdquo\;</span></span><br />\n<span style="font-size: 12pt\;"><span style="font-family: arial\,sans-serif\;">2:00pm&nbsp\;&nbsp\;<strong>Speaker Panel and Q/A &ndash\; Entrepreneurship Development</strong></span></span><br />\n<span style="font-size: 12pt\;"><span style="font-family: arial\,sans-serif\;">Maury Forman\, PhD</span></span><br />\n<span style="font-size: 12pt\;"><span style="font-family: arial\,sans-serif\;">Sr. Manager\, WA Dept. of Commerce</span></span><br />\n<span style="font-size: 12pt\;"><span style="font-family: arial\,sans-serif\;">&ldquo\;Creating an Entrepreneurial Community&rdquo\;</span></span><br />\n&nbsp\;<br />\n<span style="font-size: 12pt\;"><span style="font-family: arial\,sans-serif\;">&nbsp\;&nbsp\;&nbsp\;&nbsp\;&nbsp\;&nbsp\;&nbsp\;&nbsp\;&nbsp\;&nbsp\;&nbsp\; Chris Martin</span></span><br />\n<span style="font-size: 12pt\;"><span style="font-family: arial\,sans-serif\;">Entrepreneur &amp\; Venture Capitalist</span></span><br />\n<span style="font-size: 12pt\;"><span style="font-family: arial\,sans-serif\;">Founder/President &ndash\; CleanScapes\, a Recology Company</span></span><br />\n<span style="font-size: 12pt\;"><span style="font-family: arial\,sans-serif\;">&ldquo\;The CleanScapes Story&rdquo\;</span></span><br />\n&nbsp\;<br />\n<span style="font-size: 12pt\;"><span style="font-family: arial\,sans-serif\;">William Reichlin </span></span><br />\n<span style="font-size: 12pt\;"><span style="font-family: arial\,sans-serif\;">Entrepreneur &ndash\; Colockum Craft Brewery (Kittitas)</span></span><br />\n<span style="font-size: 12pt\;"><span style="font-family: arial\,sans-serif\;">CWU student (Senior\, major: Chemistry)</span></span><br />\n<span style="font-size: 12pt\;"><span style="font-family: arial\,sans-serif\;">2<sup>nd</sup> place\, 2013 Business Plan Competition</span></span><br />\n<span style="font-size: 12pt\;"><span style="font-family: arial\,sans-serif\;">&ldquo\;So You Want to Be an Entrepreneur &ndash\; Experience from the Front-line&rdquo\; </span></span><br />\n&nbsp\;<br />\n<strong><span style="font-size: 12pt\;"><span style="font-family: arial\,sans-serif\;">Kick-off 2014 Student Business Plan Competition</span></span></strong><br />\n<span style="font-size: 12pt\;"><span style="font-family: arial\,sans-serif\;">Roy Savoian\, Director\, I4IE&nbsp\;</span></span><br />\n&nbsp\;<br />\n<span style="font-size: 12pt\;"><span style="font-family: arial\,sans-serif\;">3:00pm&nbsp\;&nbsp\;&nbsp\; <strong>I&amp\;E Featured Speaker: Presentation and Q/A&nbsp\;&nbsp\;&nbsp\;&nbsp\;&nbsp\;&nbsp\;&nbsp\;&nbsp\;&nbsp\;&nbsp\;&nbsp\; </strong></span></span><br />\n<span style="font-size: 12pt\;"><span style="font-family: arial\,sans-serif\;">Vince Bryan\, II\, MD</span></span><br />\n<span style="font-size: 12pt\;"><span style="font-family: arial\,sans-serif\;">Retired Neurosurgeon (Seattle)</span></span><br />\n<span style="font-size: 12pt\;"><span style="font-family: arial\,sans-serif\;">Inventor\; Owner\, Cave B Estate Winery (Quincy)</span></span><br />\n&nbsp\;<br />\n<span style="font-size: 12pt\;"><span style="font-family: arial\,sans-serif\;">&ldquo\;Is There a Better Way? INNOVATION&rdquo\; </span></span><br />\n<span style="font-size: 12pt\;"><span style="font-family: arial\,sans-serif\;">(From the Artificial Spinal Disc to the Apple Harvesting Machine &amp\; Flying Fish)</span></span><br />\n&nbsp\;&nbsp\;&nbsp\;&nbsp\;&nbsp\;&nbsp\;&nbsp\;&nbsp\;&nbsp\;&nbsp\;&nbsp\;&nbsp\;&nbsp\;&nbsp\;&nbsp\;&nbsp\;&nbsp\;&nbsp\;&nbsp\;&nbsp\;&nbsp\;&nbsp\;&nbsp\;&nbsp\;&nbsp\;&nbsp\;&nbsp\;&nbsp\;&nbsp\;&nbsp\;&nbsp\;&nbsp\;&nbsp\;&nbsp\;&nbsp\;<br />\n<span style="font-size: 12pt\;"><span style="font-family: arial\,sans-serif\;">4:00pm&nbsp\;&nbsp\;&nbsp\;&nbsp\;&nbsp\;&nbsp\;&nbsp\;&nbsp\;&nbsp\;&nbsp\; Adjourn</span></span><br />\n&nbsp\;<br />\n<br />\n
LOCATION:CWU-Ellensburg/SURC Theatre Free and Open to the Public
UID:e.40.10722
SEQUENCE:3
DTSTAMP:20260420T003254Z
URL:http://business.kittitascountychamber.com/events/details/innovation-and-entrepreneurship-speaker-series-10-17-2013-10722
END:VEVENT

END:VCALENDAR
