BEGIN:VCALENDAR
VERSION:2.0
PRODID:-//ChamberMaster//Event Calendar 2.0//EN
METHOD:PUBLISH
X-PUBLISHED-TTL:P3D
REFRESH-INTERVAL:P3D
CALSCALE:GREGORIAN
BEGIN:VEVENT
DTSTART:20140524T160000Z
DTEND:20140524T230000Z
X-MICROSOFT-CDO-ALLDAYEVENT:FALSE
SUMMARY:Intermediate Painting with Naomi Gray
DESCRIPTION:Learn how to paint from a photograph and take your painting to the next level. We'll cover composition\, different brush strokes\, and how to develop a personal style.
X-ALT-DESC;FMTTYPE=text/html:Learn how to paint from a photograph and take your painting to the next level. We&#39\;ll cover composition\, different brush strokes\, and how to develop a personal style.
LOCATION:Gallery-One 408 N. Pearl St. Ellensburg WA 98926
UID:e.40.11320
SEQUENCE:3
DTSTAMP:20260419T130650Z
URL:http://business.kittitascountychamber.com/events/details/intermediate-painting-with-naomi-gray-05-24-2014-11320
END:VEVENT

END:VCALENDAR
