BEGIN:VCALENDAR
VERSION:2.0
PRODID:-//ChamberMaster//Event Calendar 2.0//EN
METHOD:PUBLISH
X-PUBLISHED-TTL:P3D
REFRESH-INTERVAL:P3D
CALSCALE:GREGORIAN
BEGIN:VEVENT
DTSTART:20130504T170000Z
DTEND:20130505T230000Z
X-MICROSOFT-CDO-ALLDAYEVENT:FALSE
SUMMARY:Iron Horse Trail Motorcycle Show
DESCRIPTION:Saturday - Run\, bike games\, & live music. $5 fee. Sunday - Bike show\, trophies\, vendors\, live music\, Seattle Cossacks at 2 PM. $10 competition fee. Bring 1 can of food for FISH Food Bank. Benefit for Red Cross & FISH. Presented by ABATE of WA\, Kittitas County Chapter.
X-ALT-DESC;FMTTYPE=text/html:Saturday - Run\, bike games\, &amp\; live music. $5 fee. Sunday - Bike show\, trophies\, vendors\, live music\, Seattle Cossacks at 2 PM. $10 competition fee. Bring 1 can of food for FISH Food Bank. Benefit for Red Cross &amp\; FISH. Presented by ABATE of WA\, Kittitas County Chapter. 
LOCATION:Red Horse Diner\, 1518 University Way
UID:e.40.10171
SEQUENCE:3
DTSTAMP:20260420T083400Z
URL:http://business.kittitascountychamber.com/events/details/iron-horse-trail-motorcycle-show-05-04-2013-10171
END:VEVENT

END:VCALENDAR
