BEGIN:VCALENDAR
VERSION:2.0
PRODID:-//ChamberMaster//Event Calendar 2.0//EN
METHOD:PUBLISH
X-PUBLISHED-TTL:P3D
REFRESH-INTERVAL:P3D
CALSCALE:GREGORIAN
BEGIN:VEVENT
DTSTART:20131025T013000Z
DTEND:20131025T050000Z
X-MICROSOFT-CDO-ALLDAYEVENT:FALSE
SUMMARY:Jazz\, Bites and Sips
DESCRIPTION:Jazz\, Bites and Sips.  Thursday\, October 24\, 2013 at 6:30 pm.  Music by Lenny Price\n\nAppetizers by Executive Chef Rob Drummand\n\nFeaturing Martinis from the extensive Starlight cocktail menu.\n\n\n\nNO HOST BAR....must be 21 or over.
X-ALT-DESC;FMTTYPE=text/html:Jazz\, Bites and Sips.&nbsp\; Thursday\, October 24\, 2013 at 6:30 pm.&nbsp\; Music by Lenny Price<br />\nAppetizers by Executive Chef Rob Drummand<br />\nFeaturing Martinis from the extensive Starlight cocktail menu.<br />\n<br />\nNO HOST BAR....must be 21 or over.<br />\n
LOCATION:Starlight Lounge 402 N. Pearl St
UID:e.40.10759
SEQUENCE:3
DTSTAMP:20260420T002915Z
URL:http://business.kittitascountychamber.com/events/details/jazz-bites-and-sips-10-24-2013-10759
END:VEVENT

END:VCALENDAR
