BEGIN:VCALENDAR
VERSION:2.0
PRODID:-//ChamberMaster//Event Calendar 2.0//EN
METHOD:PUBLISH
X-PUBLISHED-TTL:P3D
REFRESH-INTERVAL:P3D
CALSCALE:GREGORIAN
BEGIN:VEVENT
DTSTART;VALUE=DATE:20130726
DTEND;VALUE=DATE:20130729
TRANSP:TRANSPARENT
X-MICROSOFT-CDO-ALLDAYEVENT:TRUE
SUMMARY:Jazz in the Valley
DESCRIPTION:Jazz in the Valley Festival is a celebration of jazz for our community and our guests in Historic Downtown Ellensburg.   We offer:\n\n	\n		Affordable\, entertaining\, intimate performances of the highest artistic merit\n\n\n	\n		Diversity of musical styles within a jazz framework\n\n\n	\n		Opportunities to broaden and deepen knowledge and appreciation of jazz\n\n\n	\n		An annual opportunity for all ages to participate and have fun together
X-ALT-DESC;FMTTYPE=text/html:<p>\n	<span class="script"><strong>Ja</strong></span><span class="bold12pt"><strong>zz in the Valley Festival is a celebration of jazz for our community and our guests in Historic Downtown Ellensburg.&nbsp\;&nbsp\; We offer:</strong></span></p>\n<ul>\n	<li>\n		Affordable\, entertaining\, intimate performances of the highest artistic merit</li>\n</ul>\n<ul>\n	<li>\n		Diversity of musical styles within a jazz framework</li>\n</ul>\n<ul>\n	<li>\n		Opportunities to broaden and deepen knowledge and appreciation of jazz</li>\n</ul>\n<ul>\n	<li>\n		An annual opportunity for all ages to participate and have fun together</li>\n</ul>\n<p>\n	&nbsp\;</p>\n
LOCATION:Historic Downtown Ellensburg
UID:e.40.5630
SEQUENCE:3
DTSTAMP:20260420T050641Z
URL:http://business.kittitascountychamber.com/events/details/jazz-in-the-valley-07-26-2013-5630
END:VEVENT

END:VCALENDAR
