BEGIN:VCALENDAR
VERSION:2.0
PRODID:-//ChamberMaster//Event Calendar 2.0//EN
METHOD:PUBLISH
X-PUBLISHED-TTL:P3D
REFRESH-INTERVAL:P3D
CALSCALE:GREGORIAN
BEGIN:VEVENT
DTSTART:20140510T010000Z
DTEND:20140510T050000Z
X-MICROSOFT-CDO-ALLDAYEVENT:FALSE
SUMMARY:Jeanne Coady Sings Patsy Cline
DESCRIPTION:Jeanne Coady Sings Patsy Cline www.jeannecoady.com Tickets sold at Jerrol's & Super 1 Foods Proceeds benefit Open Door Health Clinic
X-ALT-DESC;FMTTYPE=text/html:Jeanne Coady Sings Patsy Cline www.jeannecoady.com Tickets sold at Jerrol&#39\;s &amp\; Super 1 Foods Proceeds benefit Open Door Health Clinic
LOCATION:420 Pearl Street
UID:e.40.11363
SEQUENCE:3
DTSTAMP:20260419T125141Z
URL:http://business.kittitascountychamber.com/events/details/jeanne-coady-sings-patsy-cline-05-09-2014-11363
END:VEVENT

END:VCALENDAR
