BEGIN:VCALENDAR
VERSION:2.0
PRODID:-//ChamberMaster//Event Calendar 2.0//EN
METHOD:PUBLISH
X-PUBLISHED-TTL:P3D
REFRESH-INTERVAL:P3D
CALSCALE:GREGORIAN
BEGIN:VEVENT
DTSTART:20130621T000000Z
DTEND:20130621T050000Z
X-MICROSOFT-CDO-ALLDAYEVENT:FALSE
SUMMARY:Josh Turner Concert
DESCRIPTION:Join us as we kick off the 2013 Swiftwater Cellars Summer Concert Series with country music's Josh Turner!
X-ALT-DESC;FMTTYPE=text/html:Join us as we kick off the 2013 Swiftwater Cellars Summer Concert Series with country music&#39\;s Josh Turner!
LOCATION:Swiftwater Cellars 301 Rope Rider Drive Cle Elum\,WA 98922
UID:e.40.10297
SEQUENCE:3
DTSTAMP:20260420T064949Z
URL:http://business.kittitascountychamber.com/events/details/josh-turner-concert-06-20-2013-10297
END:VEVENT

END:VCALENDAR
