BEGIN:VCALENDAR
VERSION:2.0
PRODID:-//ChamberMaster//Event Calendar 2.0//EN
METHOD:PUBLISH
X-PUBLISHED-TTL:P3D
REFRESH-INTERVAL:P3D
CALSCALE:GREGORIAN
BEGIN:VEVENT
DTSTART:20131020T023000Z
DTEND:20131020T034500Z
X-MICROSOFT-CDO-ALLDAYEVENT:FALSE
SUMMARY:Kairos Quartet plays Beethoven!
DESCRIPTION:The Kairos String Quartet\, CWU's Ensemble in Residence\, will perform Beethoven's amazing Razumovsky Quartet: op. 59 #1 and 4 Miniatures by Georgian composer SulkhanTsintsadze
X-ALT-DESC;FMTTYPE=text/html:The Kairos String Quartet\, CWU&#39\;s Ensemble in Residence\, will perform Beethoven&#39\;s amazing Razumovsky Quartet: op. 59 #1 and 4 Miniatures by Georgian composer SulkhanTsintsadze
LOCATION:CWU Music Building Concert Hall
UID:e.40.10775
SEQUENCE:3
DTSTAMP:20260420T003025Z
URL:http://business.kittitascountychamber.com/events/details/kairos-quartet-plays-beethoven-10-19-2013-10775
END:VEVENT

END:VCALENDAR
