BEGIN:VCALENDAR
VERSION:2.0
PRODID:-//ChamberMaster//Event Calendar 2.0//EN
METHOD:PUBLISH
X-PUBLISHED-TTL:P3D
REFRESH-INTERVAL:P3D
CALSCALE:GREGORIAN
BEGIN:VEVENT
DTSTART:20140125T030000Z
DTEND:20140125T060000Z
X-MICROSOFT-CDO-ALLDAYEVENT:FALSE
SUMMARY:KCYE's Super Awesome Fun Night
DESCRIPTION:v\\:* {behavior:url(#default#VML)\;}\no\\:* {behavior:url(#default#VML)\;}\nb\\:* {behavior:url(#default#VML)\;}\n.shape {behavior:url(#default#VML)\;}\n\n\n\n	KCYE is a group of youth that helps prevent teen substance abuse in our community.  Come enjoy snack foods\, video games\, low ropes course\,  dodge ball\, and so much more.  Bring your friends! And all for the price of free!!!\n\n	 \n\n \n  281\n  \n   7772400\n   10058400\n  \n  259\n  261\n  257\n  276\n  262\n  279\n  1\n  0``````````````````````\n  5\n  1\n  0\n  285\n \n \n  282\n  1\n  False\n  0\n  0\n  0\n  0\n \n \n  \n   \n    \n     -1\n    \n   \n  \n  304800\n  243\n  True\n  128\n  77\n  255\n  3175\n  3175\n  70\n  True\n  True\n  True\n  True\n  True\n \n \n  278\n  \n   134217728\n  \n \n \n  1\n  \n   \n    7\n    -9999996.000000\n    -9999996.000000\n   \n  \n \n \n  8\n  \n   Empty\n   \n    16711680\n   \n   \n    65280\n   \n   \n    13421619\n   \n   \n    12632256\n   \n   \n    10040115\n   \n   \n    16711680\n   \n   \n    16777215\n   \n  \n  2000\n  Custom 1\n \n \n \n\n \n  \n   22860000\n   22860000\n  \n  (`@`````````\n  266\n  263\n  5\n  \n   110185200\n   110185200
X-ALT-DESC;FMTTYPE=text/html:<!--[if !mso]>\n<style>\nv\\:* {behavior:url(#default#VML)\;}\no\\:* {behavior:url(#default#VML)\;}\nb\\:* {behavior:url(#default#VML)\;}\n.shape {behavior:url(#default#VML)\;}\n</style>\n<![endif]-->\n<p class="MsoNormal" style="mso-pagination: none\;">\n	<span lang="en-US" style="font-size: 22pt\; mso-ansi-language: en-US\; language: en-US\;">KCYE is a group of youth that helps prevent teen<span style="mso-spacerun: yes\;"> </span>substance abuse in our community.<span style="mso-spacerun: yes\;">&nbsp\; </span>Come enjoy snack foods\, video games\, low ropes course\,<span style="mso-spacerun: yes\;">&nbsp\; </span>dodge ball\, and so much more.<span style="mso-spacerun: yes\;">&nbsp\; </span>Bring your friends! And all for the price of free!!!</span></p>\n<p class="MsoNormal" style="mso-pagination: none\;">\n	<span lang="en-US" style="language: en-US\;">&nbsp\;</span></p>\n<!--[if pub]><xml>\n <b:Publication type="OplPub" oty="68" oh="256">\n  <b:OhPrintBlock priv="30E">281</b:OhPrintBlock>\n  <b:DptlPageDimensions type="OplPt" priv="1211">\n   <b:Xl priv="104">7772400</b:Xl>\n   <b:Yl priv="204">10058400</b:Yl>\n  </b:DptlPageDimensions>\n  <b:OhGallery priv="180E">259</b:OhGallery>\n  <b:OhFancyBorders priv="190E">261</b:OhFancyBorders>\n  <b:OhCaptions priv="1A0E">257</b:OhCaptions>\n  <b:OhQuillDoc priv="200E">276</b:OhQuillDoc>\n  <b:OhMailMergeData priv="210E">262</b:OhMailMergeData>\n  <b:OhColorScheme priv="220E">279</b:OhColorScheme>\n  <b:DwNextUniqueOid priv="2304">1</b:DwNextUniqueOid>\n  <b:IdentGUID priv="2A07">0``````````````````````</b:IdentGUID>\n  <b:DpgSpecial priv="2C03">5</b:DpgSpecial>\n  <b:CTimesEdited priv="3C04">1</b:CTimesEdited>\n  <b:NuDefaultUnitsEx priv="4104">0</b:NuDefaultUnitsEx>\n  <b:OhImpositionEngine priv="440E">285</b:OhImpositionEngine>\n </b:Publication>\n <b:PrinterInfo type="OplPrb" oty="75" oh="281">\n  <b:OhColorSepBlock priv="30E">282</b:OhColorSepBlock>\n  <b:OpmOutsidePrintMode priv="B04">1</b:OpmOutsidePrintMode>\n  <b:FInitComplete priv="1400">False</b:FInitComplete>\n  <b:DpiX priv="2203">0</b:DpiX>\n  <b:DpiY priv="2303">0</b:DpiY>\n  <b:DxlOverlap priv="2404">0</b:DxlOverlap>\n  <b:DylOverlap priv="2504">0</b:DylOverlap>\n </b:PrinterInfo>\n <b:ColorSeperationInfo type="OplCsb" oty="79" oh="282">\n  <b:Plates type="OplCsp" priv="214">\n   <b:OplCsp type="OplCsp" priv="11">\n    <b:EcpPlate type="OplEcp" priv="213">\n     <b:Color priv="104">-1</b:Color>\n    </b:EcpPlate>\n   </b:OplCsp>\n  </b:Plates>\n  <b:DzlOverprintMost priv="304">304800</b:DzlOverprintMost>\n  <b:CprOverprintMin priv="404">243</b:CprOverprintMin>\n  <b:FKeepawayTrap priv="700">True</b:FKeepawayTrap>\n  <b:CprTrapMin1 priv="904">128</b:CprTrapMin1>\n  <b:CprTrapMin2 priv="A04">77</b:CprTrapMin2>\n  <b:CprKeepawayMin priv="B04">255</b:CprKeepawayMin>\n  <b:DzlTrap priv="C04">3175</b:DzlTrap>\n  <b:DzlIndTrap priv="D04">3175</b:DzlIndTrap>\n  <b:PctCenterline priv="E04">70</b:PctCenterline>\n  <b:FMarksRegistration priv="F00">True</b:FMarksRegistration>\n  <b:FMarksJob priv="1000">True</b:FMarksJob>\n  <b:FMarksDensity priv="1100">True</b:FMarksDensity>\n  <b:FMarksColor priv="1200">True</b:FMarksColor>\n  <b:FLineScreenDefault priv="1300">True</b:FLineScreenDefault>\n </b:ColorSeperationInfo>\n <b:TextDocProperties type="OplDocq" oty="91" oh="276">\n  <b:OhPlcqsb priv="20E">278</b:OhPlcqsb>\n  <b:EcpSplitMenu type="OplEcp" priv="A13">\n   <b:Color>134217728</b:Color>\n  </b:EcpSplitMenu>\n </b:TextDocProperties>\n <b:StoryBlock type="OplPlcQsb" oty="101" oh="278">\n  <b:IqsbMax priv="104">1</b:IqsbMax>\n  <b:Rgqsb type="OplQsb" priv="214">\n   <b:OplQsb type="OplQsb" priv="11">\n    <b:Qsid priv="104">7</b:Qsid>\n    <b:TomfCopyfitBase priv="80B">-9999996.000000</b:TomfCopyfitBase>\n    <b:TomfCopyfitBase2 priv="90B">-9999996.000000</b:TomfCopyfitBase2>\n   </b:OplQsb>\n  </b:Rgqsb>\n </b:StoryBlock>\n <b:ColorScheme type="OplSccm" oty="92" oh="279">\n  <b:Cecp priv="104">8</b:Cecp>\n  <b:Rgecp type="OplEcp" priv="214">\n   <b:OplEcp priv="F">Empty</b:OplEcp>\n   <b:OplEcp type="OplEcp" priv="111">\n    <b:Color>16711680</b:Color>\n   </b:OplEcp>\n   <b:OplEcp type="OplEcp" priv="211">\n    <b:Color>65280</b:Color>\n   </b:OplEcp>\n   <b:OplEcp type="OplEcp" priv="311">\n    <b:Color>13421619</b:Color>\n   </b:OplEcp>\n   <b:OplEcp type="OplEcp" priv="411">\n    <b:Color>12632256</b:Color>\n   </b:OplEcp>\n   <b:OplEcp type="OplEcp" priv="511">\n    <b:Color>10040115</b:Color>\n   </b:OplEcp>\n   <b:OplEcp type="OplEcp" priv="611">\n    <b:Color>16711680</b:Color>\n   </b:OplEcp>\n   <b:OplEcp type="OplEcp" priv="711">\n    <b:Color>16777215</b:Color>\n   </b:OplEcp>\n  </b:Rgecp>\n  <b:IScheme priv="304">2000</b:IScheme>\n  <b:SzSchemeName priv="618">Custom 1</b:SzSchemeName>\n </b:ColorScheme>\n <![if pub11]>\n <![endif]>\n</xml><![endif]--><!--[if pub]><xml>\n <b:Page type="OplPd" oty="67" oh="265">\n  <b:PtlvOrigin type="OplPt" priv="511">\n   <b:Xl>22860000</b:Xl>\n   <b:Yl>22860000</b:Yl>\n  </b:PtlvOrigin>\n  <b:Oid priv="605">(`@`````````</b:Oid>\n  <b:OhoplWebPageProps priv="90E">266</b:OhoplWebPageProps>\n  <b:OhpdMaster priv="D0D">263</b:OhpdMaster>\n  <b:PgtType priv="1004">5</b:PgtType>\n  <b:PtlvOriginEx type="OplPt" priv="1111">\n   <b:Xl>110185200</b:Xl>\n   <b:Yl>110185200</b:Yl>\n  </b:PtlvOriginEx>\n </b:Page>\n</xml><![endif]--><!--[if gte mso 9]><xml>\n <o:shapedefaults v:ext="edit" spidmax="3075" fill="f" fillcolor="white [7]"\n  strokecolor="black [0]">\n  <v:fill color="white [7]" color2="white [7]" on="f"/>\n  <v:stroke color="black [0]" color2="white [7]">\n   <o:left v:ext="view" color="black [0]" color2="white [7]"/>\n   <o:top v:ext="view" color="black [0]" color2="white [7]"/>\n   <o:right v:ext="view" color="black [0]" color2="white [7]"/>\n   <o:bottom v:ext="view" color="black [0]" color2="white [7]"/>\n   <o:column v:ext="view" color="black [0]" color2="white [7]"/>\n  </v:stroke>\n  <v:shadow color="silver [4]"/>\n  <v:textbox inset="2.88pt\,2.88pt\,2.88pt\,2.88pt"/>\n  <o:colormenu v:ext="edit" fillcolor="blue [1]" strokecolor="black [0]"\n   shadowcolor="silver [4]"/>\n </o:shapedefaults><o:shapelayout v:ext="edit">\n  <o:idmap v:ext="edit" data="1"/>\n </o:shapelayout></xml><![endif]-->
LOCATION:First Presbyterian Church 1307 E. 3rd. Ave\, Ellensburg\, WA 989826
UID:e.40.10929
SEQUENCE:3
DTSTAMP:20260419T190550Z
URL:http://business.kittitascountychamber.com/events/details/kcye-s-super-awesome-fun-night-01-24-2014-10929
END:VEVENT

END:VCALENDAR
