BEGIN:VCALENDAR
VERSION:2.0
PRODID:-//ChamberMaster//Event Calendar 2.0//EN
METHOD:PUBLISH
X-PUBLISHED-TTL:P3D
REFRESH-INTERVAL:P3D
CALSCALE:GREGORIAN
BEGIN:VEVENT
DTSTART:20130517T003000Z
DTEND:20130517T023000Z
X-MICROSOFT-CDO-ALLDAYEVENT:FALSE
SUMMARY:Kicks for Cameroon concert/fundraiser
DESCRIPTION:Kicks for Cameroon concert/fundraiser Thursday\, May 16 5:30-7:30 p.m. D&M Coffee Downtown The CWU Unheard Voices program will host the Kicks for Cameroon concert to benefit children in Bawa\, Cameroon. Event goers can donate gently used footwear or make monetary contributions to cover shipping costs while enjoying performances by Gentlemen?s Enemy and an array of student acts. Donations will also be accepted at D&M Coffee downtown\, Morgan Middle School\, Mercer Creek Church\, First Lutheran Church and the CWU Early Childhood Learning Center. Kicks for Cameroon provides the opportunity to make a meaningful difference in the lives of the less fortunate while enjoying some great talent\, so don?t let the chance to get involved pass by. For more information visit www.takeactioncwu.com.
X-ALT-DESC;FMTTYPE=text/html:Kicks for Cameroon concert/fundraiser Thursday\, May 16 5:30-7:30 p.m. D&amp\;M Coffee Downtown The CWU Unheard Voices program will host the Kicks for Cameroon concert to benefit children in Bawa\, Cameroon. Event goers can donate gently used footwear or make monetary contributions to cover shipping costs while enjoying performances by Gentlemen?s Enemy and an array of student acts. Donations will also be accepted at D&amp\;M Coffee downtown\, Morgan Middle School\, Mercer Creek Church\, First Lutheran Church and the CWU Early Childhood Learning Center. Kicks for Cameroon provides the opportunity to make a meaningful difference in the lives of the less fortunate while enjoying some great talent\, so don?t let the chance to get involved pass by. For more information visit www.takeactioncwu.com. 
LOCATION:D&M Coffee Downtown\, 301 N. Pine St. Ellensburg\, WA
UID:e.40.10289
SEQUENCE:3
DTSTAMP:20260420T090659Z
URL:http://business.kittitascountychamber.com/events/details/kicks-for-cameroon-concert-fundraiser-05-16-2013-10289
END:VEVENT

END:VCALENDAR
