BEGIN:VCALENDAR
VERSION:2.0
PRODID:-//ChamberMaster//Event Calendar 2.0//EN
METHOD:PUBLISH
X-PUBLISHED-TTL:P3D
REFRESH-INTERVAL:P3D
CALSCALE:GREGORIAN
BEGIN:VEVENT
DTSTART:20140418T020000Z
DTEND:20140418T040000Z
X-MICROSOFT-CDO-ALLDAYEVENT:FALSE
SUMMARY:Kittitas Audubon
DESCRIPTION:'Little Known Snakes of the Shrub-steppe'.The mission of the Kittitas Audubon is to develop an appreciation of nature through education and conservation with a focus on birds.
X-ALT-DESC;FMTTYPE=text/html:&#39\;Little Known Snakes of the Shrub-steppe&#39\;.The mission of the Kittitas Audubon is to develop an appreciation of nature through education and conservation with a focus on birds.
LOCATION:209 N Ruby Street Ellensburg\, WA 98926
UID:e.40.11345
SEQUENCE:3
DTSTAMP:20260419T161013Z
URL:http://business.kittitascountychamber.com/events/details/kittitas-audubon-04-17-2014-11345
END:VEVENT

END:VCALENDAR
