BEGIN:VCALENDAR
VERSION:2.0
PRODID:-//ChamberMaster//Event Calendar 2.0//EN
METHOD:PUBLISH
X-PUBLISHED-TTL:P3D
REFRESH-INTERVAL:P3D
CALSCALE:GREGORIAN
BEGIN:VEVENT
DTSTART:20121208T180000Z
DTEND:20121208T230000Z
X-MICROSOFT-CDO-ALLDAYEVENT:FALSE
SUMMARY:Kittitas Booster Club Holiday Bazaar
DESCRIPTION:Kittitas Booster Club Holiday Bazaar\n\n	at the Kittitas Secondary School Commons\n\n	Vendors\n\n	Activities for children\n\n	Silent Auction\n\n	Saturday\, December 8th\n\n	10:00 am - 3:00 pm\n\n	 \n\n	Registration fees and silent auction proceeds will go directly to support the Kittitas Booster Club.  Vendors wishing to participate can CLICK HERE to download the registration form.
X-ALT-DESC;FMTTYPE=text/html:<p data-mce-style="text-align: left\;">\n	<span data-mce-style="font-size: 10pt\;" style="font-size: 10pt\;"><strong>Kittitas Booster Club Holiday Bazaar</strong></span></p>\n<p data-mce-style="text-align: left\;">\n	<strong>at the Kittitas Secondary School Commons</strong></p>\n<p data-mce-style="text-align: left\; margin-left: 30px\;" style="margin-left: 30px\;">\n	<span data-mce-style="font-size: 10pt\;" style="font-size: 10pt\;"><strong>Vendors</strong></span></p>\n<p data-mce-style="text-align: left\; margin-left: 30px\;" style="margin-left: 30px\;">\n	<span data-mce-style="font-size: 10pt\;" style="font-size: 10pt\;"><strong>Activities for children</strong></span></p>\n<p data-mce-style="text-align: left\; margin-left: 30px\;" style="margin-left: 30px\;">\n	<span data-mce-style="font-size: 10pt\;" style="font-size: 10pt\;"><strong>Silent Auction</strong></span></p>\n<p data-mce-style="text-align: left\;">\n	<span data-mce-style="color: #800000\; font-size: 10pt\;" style="color: #800000\; font-size: 10pt\;"><strong>Saturday\, December 8th</strong></span></p>\n<p data-mce-style="text-align: left\;">\n	<span data-mce-style="color: #800000\; font-size: 10pt\;" style="color: #800000\; font-size: 10pt\;"><strong>10:00 am - 3:00 pm</strong></span></p>\n<p data-mce-style="text-align: left\;">\n	<span data-mce-style="color: #800000\; font-size: 10pt\;" style="color: #800000\; font-size: 10pt\;"><strong>&nbsp\;</strong></span></p>\n<p data-mce-style="text-align: left\;">\n	<span data-mce-style="color: #800000\; font-size: 10pt\;" style="color: #800000\; font-size: 10pt\;"><span data-mce-style="color: #000000\;" style="color: #000000\;">Registration fees and silent auction proceeds will go directly to support the Kittitas Booster Club.&nbsp\; Vendors wishing to participate can <a href="http://cloud.chambermaster.com/userfiles/UserFiles/chambers/40/File/BazaarRegForm2012.pdf" target="_blank"><span class="wf_file_text">CLICK HERE</span></a> to download the registration form.</span></span></p>\n
LOCATION:Kittitas Secondary School Commons 7571 Kittitas Hwy
UID:e.40.9190
SEQUENCE:3
DTSTAMP:20260420T182622Z
URL:http://business.kittitascountychamber.com/events/details/kittitas-booster-club-holiday-bazaar-12-08-2012-9190
END:VEVENT

END:VCALENDAR
