BEGIN:VCALENDAR
VERSION:2.0
PRODID:-//ChamberMaster//Event Calendar 2.0//EN
METHOD:PUBLISH
X-PUBLISHED-TTL:P3D
REFRESH-INTERVAL:P3D
CALSCALE:GREGORIAN
BEGIN:VEVENT
DTSTART:20130509T000000Z
DTEND:20130509T020000Z
X-MICROSOFT-CDO-ALLDAYEVENT:FALSE
SUMMARY:Kittitas County Chamber Open House - Cle Elum Office
DESCRIPTION:Cle Elum Open House\n\nJoin us for our Open House in the Cle Elum Visitor Information Center & Chamber Office\n\nStop by for a tour\, Burgers\, Beverages\, Prize Drawings and More !
X-ALT-DESC;FMTTYPE=text/html:<span style="font-size: 16px"><span style="color: #006400">Cle Elum Open House<br />\nJoin us for our Open House in the Cle Elum&nbsp\;Visitor Information Center &amp\; Chamber Office<br />\nStop by for a tour\, Burgers\, Beverages\,&nbsp\;Prize Drawings and More !&nbsp\;</span></span>
LOCATION:312 1st Ave Cle Elum
UID:e.40.10270
SEQUENCE:3
DTSTAMP:20260420T084716Z
URL:http://business.kittitascountychamber.com/events/details/kittitas-county-chamber-open-house-cle-elum-office-05-08-2013-10270
END:VEVENT

END:VCALENDAR
