BEGIN:VCALENDAR
VERSION:2.0
PRODID:-//ChamberMaster//Event Calendar 2.0//EN
METHOD:PUBLISH
X-PUBLISHED-TTL:P3D
REFRESH-INTERVAL:P3D
CALSCALE:GREGORIAN
BEGIN:VEVENT
DTSTART:20140502T010000Z
DTEND:20140502T023000Z
X-MICROSOFT-CDO-ALLDAYEVENT:FALSE
SUMMARY:Kittitas County Community Network & Coalition
DESCRIPTION:KCYE -Kittitas County Youth Experience Are holding a Town Hall Meeting addressing Underage Drinking.  Come and learn how to prevent the use of alcohol by teens. Special Guest Speaker Josh Hink will talk about the detrimental effects of alcohol on both the consumer and their friends and family.
X-ALT-DESC;FMTTYPE=text/html:KCYE&nbsp\;-Kittitas County Youth Experience Are holding a Town Hall Meeting addressing Underage Drinking. &nbsp\;Come and learn how to prevent the use of alcohol by teens. Special Guest Speaker Josh Hink will talk about the detrimental effects of alcohol on both the consumer and their friends and family.&nbsp\;
LOCATION:Ellensburg City Hall Council Chambers 501 N. Anderson
UID:e.40.11375
SEQUENCE:3
DTSTAMP:20260419T125136Z
URL:http://business.kittitascountychamber.com/events/details/kittitas-county-community-network-coalition-05-01-2014-11375
END:VEVENT

END:VCALENDAR
