BEGIN:VCALENDAR
VERSION:2.0
PRODID:-//ChamberMaster//Event Calendar 2.0//EN
METHOD:PUBLISH
X-PUBLISHED-TTL:P3D
REFRESH-INTERVAL:P3D
CALSCALE:GREGORIAN
BEGIN:VEVENT
DTSTART:20131113T233000Z
DTEND:20131114T010000Z
X-MICROSOFT-CDO-ALLDAYEVENT:FALSE
SUMMARY:Kittitas County Community Resiliency Celebration
DESCRIPTION:Join the Red Cross as we recognize and celebrate the local individuals and organizations who played a key role in our community's ability to respond to and recover from the Taylor Bridge Fire.  This event is free and open to the public\n\nPLEASE RSVP so that we can plan accordingly
X-ALT-DESC;FMTTYPE=text/html:Join the Red Cross as we recognize and celebrate the local individuals and organizations who played a key role in our community&#39\;s ability to respond to and recover from the Taylor Bridge Fire.&nbsp\; This event is free and open to the public<br />\n<span style="font-size: 16px"><span style="color: #ff0000">PLEASE RSVP </span><span style="font-size: 12px">so that we can plan accordingly</span></span>
LOCATION:Kittitas County Fairgrounds - Teanaway Hall
UID:e.40.10818
SEQUENCE:3
DTSTAMP:20260419T224937Z
URL:http://business.kittitascountychamber.com/events/details/kittitas-county-community-resiliency-celebration-11-13-2013-10818
END:VEVENT

END:VCALENDAR
