BEGIN:VCALENDAR
VERSION:2.0
PRODID:-//ChamberMaster//Event Calendar 2.0//EN
METHOD:PUBLISH
X-PUBLISHED-TTL:P3D
REFRESH-INTERVAL:P3D
CALSCALE:GREGORIAN
BEGIN:VEVENT
DTSTART;VALUE=DATE:20130829
DTEND;VALUE=DATE:20130903
TRANSP:TRANSPARENT
X-MICROSOFT-CDO-ALLDAYEVENT:TRUE
SUMMARY:Kittitas County Fair
DESCRIPTION:From the first organized Kittitas County Fair in 1885 to the modern five day event held each Labor Day weekend\, the fair has always been about agriculture. From its inception by local farmers and ranchers the fair has showcased the best that Kittitas County has to offer. With the Fair & Rodeo combining its efforts & location since 1923\, everyone can enjoy agricultural exhibits and competitions\, a four day rodeo and a gathering of Yakama Indians takes place. Whether you are a kid or a kid at heart\, the Kittitas County Fair has something for everybody with special attractions to celebrate the history\, heritage\, and culture of the county: Frontier Village\; Heritage Center.\n\n	Check out www.kittitascountyfair.com for entertainment options/\n\n	\n\n	Davis Cascadia Carnival will be here once again. \n\n	\n\n	If you are wanting information about becoming an exhibitor at fair please check out the website or call the Kittitas County Fair office at 509-962-7639.
X-ALT-DESC;FMTTYPE=text/html:<div>\n	From the first organized Kittitas County Fair in 1885 to the modern five day event held each Labor Day weekend\, the fair has always been about agriculture. From its inception by local farmers and ranchers the fair has showcased the best that Kittitas County has to offer. With the Fair &amp\; Rodeo combining its efforts &amp\; location since 1923\, everyone can enjoy agricultural exhibits and competitions\, a four day rodeo and a gathering of Yakama Indians takes place. Whether you are a kid or a kid at heart\, the Kittitas County Fair has something for everybody with special attractions to celebrate the history\, heritage\, and culture of the county: Frontier Village\; Heritage Center.</div>\n<div>\n	Check out <a href="http://www.kittitascountyfair.com">www.kittitascountyfair.com</a> for entertainment options/</div>\n<div>\n	<br />\n	Davis Cascadia Carnival will be here once again.&nbsp\;<br />\n	<br />\n	If you are wanting information about becoming an exhibitor at fair please check out the website or call the Kittitas County Fair office at 509-962-7639.</div>\n
LOCATION:Kittitas County Fairgrounds is located at 512 N. Poplar St. Fair Parking is located on University Way and Alder Street
UID:e.40.5688
SEQUENCE:3
DTSTAMP:20260420T015219Z
URL:http://business.kittitascountychamber.com/events/details/kittitas-county-fair-08-29-2013-5688
END:VEVENT

END:VCALENDAR
