BEGIN:VCALENDAR
VERSION:2.0
PRODID:-//ChamberMaster//Event Calendar 2.0//EN
METHOD:PUBLISH
X-PUBLISHED-TTL:P3D
REFRESH-INTERVAL:P3D
CALSCALE:GREGORIAN
BEGIN:VEVENT
DTSTART;VALUE=DATE:20120830
DTEND;VALUE=DATE:20120904
TRANSP:TRANSPARENT
X-MICROSOFT-CDO-ALLDAYEVENT:TRUE
SUMMARY:Kittitas County Fair
DESCRIPTION:From the first organized Kittitas County Fair in 1885 to the modern five day event held each Labor Day weekend\, the fair has always been about agriculture. From its inception by local farmers and ranchers the fair has showcased the best that Kittitas County has to offer. With the Fair & Rodeo combining its efforts & location since 1923\, everyone can enjoy agricultural exhibits and competitions\, a four day rodeo and a gathering of Yakama Indians takes place. Whether you are a kid or a kid at heart\, the Kittitas County Fair has something for everybody with special attractions to celebrate the history\, heritage\, and culture of the county: Frontier Village\; Heritage Center.Check out www.kittitascountyfair.com for entertainment options/\nDavis Cascadia Carnival will be here once again. \n\nIf you are wanting information about becoming an exibitor at fair please check out the website or call the Kittitas County Fair office at 509-962-7639 or 1-800-426-5340
X-ALT-DESC;FMTTYPE=text/html:<div>From the first organized Kittitas County Fair in 1885 to the modern five day event held each Labor Day weekend\, the fair has always been about agriculture. From its inception by local farmers and ranchers the fair has showcased the best that Kittitas County has to offer. With the Fair &amp\; Rodeo combining its efforts &amp\; location since 1923\, everyone can enjoy agricultural exhibits and competitions\, a four day rodeo and a gathering of Yakama Indians takes place. Whether you are a kid or a kid at heart\, the Kittitas County Fair has something for everybody with special attractions to celebrate the history\, heritage\, and culture of the county: Frontier Village\; Heritage Center.</div><div>Check out <a href="http://www.kittitascountyfair.com">www.kittitascountyfair.com</a> for entertainment options/</div><div><br />Davis Cascadia Carnival will be here once again.&nbsp\;<br /><br />If you are wanting information about becoming an exibitor at fair please check out the website or call the Kittitas County Fair office at 509-962-7639 or 1-800-426-5340</div>
LOCATION:Kittitas County Fairgrounds is located at 512 N. Poplar St. Fair Parking is located on Univeristy Way and Alder Street
UID:e.40.5687
SEQUENCE:3
DTSTAMP:20260420T234347Z
URL:http://business.kittitascountychamber.com/events/details/kittitas-county-fair-08-30-2012-5687
END:VEVENT

END:VCALENDAR
