BEGIN:VCALENDAR
VERSION:2.0
PRODID:-//ChamberMaster//Event Calendar 2.0//EN
METHOD:PUBLISH
X-PUBLISHED-TTL:P3D
REFRESH-INTERVAL:P3D
CALSCALE:GREGORIAN
BEGIN:VEVENT
DTSTART:20131005T160000Z
DTEND:20131005T200000Z
X-MICROSOFT-CDO-ALLDAYEVENT:FALSE
SUMMARY:Kittitas County Farmers Market
DESCRIPTION:Kittitas County Farmers Market will open Saturday May 5\, 2013.  The market showcases artisans\,agriculture and more
X-ALT-DESC;FMTTYPE=text/html:Kittitas County Farmers Market will open Saturday May 5\, 2013.&nbsp\; The market showcases artisans\,agriculture and more
LOCATION:Historic Downtown Ellensburg 4th Avenue between Pearl and Ruby Streets
UID:e.40.10247
SEQUENCE:3
DTSTAMP:20260420T003252Z
URL:http://business.kittitascountychamber.com/events/details/kittitas-county-farmers-market-10-05-2013-10247
END:VEVENT

END:VCALENDAR
