BEGIN:VCALENDAR
VERSION:2.0
PRODID:-//ChamberMaster//Event Calendar 2.0//EN
METHOD:PUBLISH
X-PUBLISHED-TTL:P3D
REFRESH-INTERVAL:P3D
CALSCALE:GREGORIAN
BEGIN:VEVENT
DTSTART:20131008T180000Z
DTEND:20131008T210000Z
X-MICROSOFT-CDO-ALLDAYEVENT:FALSE
SUMMARY:Kittitas County Job Fair
DESCRIPTION:Kittitas County Job Fair Tuesday\, Oct 8\, 2013 11:00 am to 2:00 pm The CWU Equity and Services Council is partnering with ASCWU-BOD\, Center for Leadership and Civic Engagement and Career Services to present the Kittitas County Job Fair. Come out Oct. 8 from 11 a.m. to 2 p.m. to SURC 137 A&B to get the scoop on the most current and promising job opportunities in the Ellensburg area. Now is the time to find the employment you?ve been searching for! For more information contact Spencer Flores\, ASCWU-BOD VP Equity and Community Affairs\, at BODcommunity@gwmail.cwu.edu or 509-963-1697.
X-ALT-DESC;FMTTYPE=text/html:Kittitas County Job Fair Tuesday\, Oct 8\, 2013 11:00 am to 2:00 pm The CWU Equity and Services Council is partnering with ASCWU-BOD\, Center for Leadership and Civic Engagement and Career Services to present the Kittitas County Job Fair. Come out Oct. 8 from 11 a.m. to 2 p.m. to SURC 137 A&amp\;B to get the scoop on the most current and promising job opportunities in the Ellensburg area. Now is the time to find the employment you?ve been searching for! For more information contact Spencer Flores\, ASCWU-BOD VP Equity and Community Affairs\, at BODcommunity@gwmail.cwu.edu or 509-963-1697.
LOCATION:CWU Student Union and Recreation Center (SURC) 137 A & B
UID:e.40.10750
SEQUENCE:3
DTSTAMP:20260420T003113Z
URL:http://business.kittitascountychamber.com/events/details/kittitas-county-job-fair-10-08-2013-10750
END:VEVENT

END:VCALENDAR
