BEGIN:VCALENDAR
VERSION:2.0
PRODID:-//ChamberMaster//Event Calendar 2.0//EN
METHOD:PUBLISH
X-PUBLISHED-TTL:P3D
REFRESH-INTERVAL:P3D
CALSCALE:GREGORIAN
BEGIN:VEVENT
DTSTART:20190706T170000Z
DTEND:20190707T230000Z
X-MICROSOFT-CDO-ALLDAYEVENT:FALSE
SUMMARY:Kittitas County Studio Tour
DESCRIPTION:Mark your calendars to celebrate the art and artists of Kittitas County with this FREE self-guided tour\, July 6 & 7\, 10-4pm both days. Enjoy exploring art\, meeting artists\, and getting a peek into their studios.
X-ALT-DESC;FMTTYPE=text/html:Mark your calendars to celebrate the art and artists of Kittitas County with this FREE self-guided tour\, July 6 &amp\; 7\, 10-4pm both days. Enjoy exploring art\, meeting artists\, and getting a peek into their studios.
LOCATION:Kittias County
UID:e.40.25718
SEQUENCE:3
DTSTAMP:20260421T131424Z
URL:http://business.kittitascountychamber.com/events/details/kittitas-county-studio-tour-25718
END:VEVENT

END:VCALENDAR
