BEGIN:VCALENDAR
VERSION:2.0
PRODID:-//ChamberMaster//Event Calendar 2.0//EN
METHOD:PUBLISH
X-PUBLISHED-TTL:P3D
REFRESH-INTERVAL:P3D
CALSCALE:GREGORIAN
BEGIN:VEVENT
DTSTART:20140125T190000Z
DTEND:20140125T230000Z
X-MICROSOFT-CDO-ALLDAYEVENT:FALSE
SUMMARY:Kittitas Environmental Education Network's e3 Winter Fair
DESCRIPTION:KEEN's e3 Winter Fair is all about environment\, education\, and economy.  Come to the Hal Holmes Community Center from 11 a.m. to 3 p.m. on January 25 to browse booths and exhibits featuring local projects\, organizations\, goods and services\, and children's activities.  It's a great community networking opportunity.
X-ALT-DESC;FMTTYPE=text/html:KEEN&rsquo\;s e3 Winter Fair is all about environment\, education\, and economy.&nbsp\; Come to the Hal Holmes Community Center from 11 a.m. to 3 p.m. on January 25 to browse booths and exhibits featuring local projects\, organizations\, goods and services\, and children&rsquo\;s activities.&nbsp\; It&rsquo\;s a great community networking opportunity.
LOCATION:Hal Holmes Community Center
UID:e.40.10910
SEQUENCE:3
DTSTAMP:20260419T190214Z
URL:http://business.kittitascountychamber.com/events/details/kittitas-environmental-education-network-s-e3-winter-fair-01-25-2014-10910
END:VEVENT

END:VCALENDAR
