BEGIN:VCALENDAR
VERSION:2.0
PRODID:-//ChamberMaster//Event Calendar 2.0//EN
METHOD:PUBLISH
X-PUBLISHED-TTL:P3D
REFRESH-INTERVAL:P3D
CALSCALE:GREGORIAN
BEGIN:VEVENT
DTSTART;VALUE=DATE:20131207
DTEND;VALUE=DATE:20131208
TRANSP:TRANSPARENT
X-MICROSOFT-CDO-ALLDAYEVENT:TRUE
SUMMARY:Kittitas Lighted Tractor Parade
DESCRIPTION:Kittitas Lighted Tractor Parade!\n\nCome enjoy a lighted tractor parade as part of this year's Christmas in Kittitas!\n\n\n\nThe Tractors will line up at Kern Co and travel north up the street to Kittitas Highway (Patrick Ave.) turn west for one block\, then turn South on Pierce St. and exit out on Railroad Ave.\n\n\n\nDaily Record Article:\n\nhttp://www.dailyrecordnews.com/members/christmas-in-kittitas-will-feature-lighted-tractor-parade/article_93ac8d06-5de4-11e3-aeeb-001a4bcf887a.html
X-ALT-DESC;FMTTYPE=text/html:Kittitas Lighted Tractor Parade!<br />\nCome enjoy a lighted tractor parade as part of this year&#39\;s Christmas in Kittitas!<br />\n<br />\nThe Tractors will line up at Kern Co and travel north up the street to Kittitas&nbsp\;Highway (Patrick Ave.) turn west for one block\, then turn South on Pierce St. and exit out on Railroad Ave.<br />\n<br />\nDaily Record Article:<br />\nhttp://www.dailyrecordnews.com/members/christmas-in-kittitas-will-feature-lighted-tractor-parade/article_93ac8d06-5de4-11e3-aeeb-001a4bcf887a.html
LOCATION:Downtown Kittitas\, WA
UID:e.40.10876
SEQUENCE:3
DTSTAMP:20260419T210343Z
URL:http://business.kittitascountychamber.com/events/details/kittitas-lighted-tractor-parade-12-07-2013-10876
END:VEVENT

END:VCALENDAR
