BEGIN:VCALENDAR
VERSION:2.0
PRODID:-//ChamberMaster//Event Calendar 2.0//EN
METHOD:PUBLISH
X-PUBLISHED-TTL:P3D
REFRESH-INTERVAL:P3D
CALSCALE:GREGORIAN
BEGIN:VEVENT
DTSTART:20140405T170000Z
DTEND:20140405T210000Z
X-MICROSOFT-CDO-ALLDAYEVENT:FALSE
SUMMARY:Kittitas Valley Fire Rescue - Spring Safety Fair
DESCRIPTION:Join the Kittitas Valley Fire Rescue Saturday April 5th from 10:00 am - 2:00 pm at the Fire Station 102 N. Pearl Street.  Bring the kids for interactive fire safety and fun at the Firehouse with:\n\nFire extinguisher use\, \n\nKids spry a real fire hose\n\nFire safety house\n\nRope rescue demo\n\nRefreshments and see Sparky\n\nHealth & Wellness table\n\nSafety Items Raffle\n\n\n\n Kittitas County Sheriff's\, Safe Kids\, EPD\, Red Cross\, WSP and Search and Rescue will also be present\n\n\n\nIf you have Bond questions?  there will be a presentation for those with questions.
X-ALT-DESC;FMTTYPE=text/html:Join the Kittitas Valley Fire Rescue Saturday April 5th from 10:00 am - 2:00 pm at the Fire Station 102 N. Pearl Street. &nbsp\;Bring the kids for interactive fire safety and fun at the Firehouse with:<br />\nFire extinguisher use\,&nbsp\;<br />\nKids spry a real fire hose<br />\nFire safety house<br />\nRope rescue demo<br />\nRefreshments and see Sparky<br />\nHealth &amp\; Wellness table<br />\nSafety Items Raffle<br />\n<br />\n&nbsp\;Kittitas County Sheriff&#39\;s\, Safe Kids\, EPD\, Red Cross\, WSP and Search and Rescue will also be present<br />\n<br />\nIf you have Bond questions? &nbsp\;there will be a presentation for those with questions.
LOCATION:Fire Station 102 N. Pearl St
UID:e.40.11246
SEQUENCE:3
DTSTAMP:20260419T143751Z
URL:http://business.kittitascountychamber.com/events/details/kittitas-valley-fire-rescue-spring-safety-fair-04-05-2014-11246
END:VEVENT

END:VCALENDAR
