BEGIN:VCALENDAR
VERSION:2.0
PRODID:-//ChamberMaster//Event Calendar 2.0//EN
METHOD:PUBLISH
X-PUBLISHED-TTL:P3D
REFRESH-INTERVAL:P3D
CALSCALE:GREGORIAN
BEGIN:VEVENT
DTSTART:20130821T183000Z
DTEND:20130821T203000Z
X-MICROSOFT-CDO-ALLDAYEVENT:FALSE
SUMMARY:KVH Annual Rodeo BBQ
DESCRIPTION:Recognized by many local residents as the unofficial beginning of the Kittitas County rodeo season\, average attendance in past years has been about 650 people. JP Ultimate Entertainment will perform live country western music during the annual barbecue\, and the Ellensburg Rodeo 2013 Royal Court will be present during the event. By popular demand\, the menu will remain the same as in 2012. Barbecue pork ribs\, wild Alaskan salmon\, Old Settlers? baked beans\, fresh fruits and salads\, granny dinner rolls\, ice cream sandwiches\, and a variety of beverages will be available. Please join KVH in celebrating the rodeo season by attending the 32nd annual rodeo barbecue on August 21.
X-ALT-DESC;FMTTYPE=text/html:Recognized by many local residents as the unofficial beginning of the Kittitas County rodeo season\, average attendance in past years has been about 650 people. JP Ultimate Entertainment will perform live country western music during the annual barbecue\, and the Ellensburg Rodeo 2013 Royal Court will be present during the event. By popular demand\, the menu will remain the same as in 2012. Barbecue pork ribs\, wild Alaskan salmon\, Old Settlers? baked beans\, fresh fruits and salads\, granny dinner rolls\, ice cream sandwiches\, and a variety of beverages will be available. Please join KVH in celebrating the rodeo season by attending the 32nd annual rodeo barbecue on August 21.
LOCATION:The barbecue is held in the north parking lot of KVH Hospital.
UID:e.40.10421
SEQUENCE:3
DTSTAMP:20260420T032851Z
URL:http://business.kittitascountychamber.com/events/details/kvh-annual-rodeo-bbq-08-21-2013-10421
END:VEVENT

END:VCALENDAR
