BEGIN:VCALENDAR
VERSION:2.0
PRODID:-//ChamberMaster//Event Calendar 2.0//EN
METHOD:PUBLISH
X-PUBLISHED-TTL:P3D
REFRESH-INTERVAL:P3D
CALSCALE:GREGORIAN
BEGIN:VEVENT
DTSTART:20130419T013000Z
DTEND:20130419T030000Z
X-MICROSOFT-CDO-ALLDAYEVENT:FALSE
SUMMARY:KVH Physical Therapy Golf Workshop
DESCRIPTION:Get Ready for Golf.  Titleist Performance Instructor Chris Vogt helps you unlock your golf potential...this is for all skill levels... there will be lots of great door prizes and is free and open to the public.........
X-ALT-DESC;FMTTYPE=text/html:Get Ready&nbsp\;for Golf.&nbsp\; Titleist Performance Instructor Chris Vogt helps you unlock your golf potential...this is for all skill levels... there will be lots of great door prizes and is free and open to the public.........
LOCATION:301 E. Mountain View Avenue\, Ellensburg
UID:e.40.10097
SEQUENCE:3
DTSTAMP:20260420T095956Z
URL:http://business.kittitascountychamber.com/events/details/kvh-physical-therapy-golf-workshop-04-18-2013-10097
END:VEVENT

END:VCALENDAR
