BEGIN:VCALENDAR
VERSION:2.0
PRODID:-//ChamberMaster//Event Calendar 2.0//EN
METHOD:PUBLISH
X-PUBLISHED-TTL:P3D
REFRESH-INTERVAL:P3D
CALSCALE:GREGORIAN
BEGIN:VEVENT
DTSTART:20140404T010000Z
DTEND:20140404T023000Z
X-MICROSOFT-CDO-ALLDAYEVENT:FALSE
SUMMARY:Ladies Night
DESCRIPTION:We're opening the doors for Ladies Only! There will be great deals\, food\, wine tasting\, door prizes\, and a chance to win the Grand Prize! Come meet with our vendors for helpful hints!
X-ALT-DESC;FMTTYPE=text/html:We&#39\;re opening the doors for Ladies Only! There will be great deals\, food\, wine tasting\, door prizes\, and a chance to win the Grand Prize! Come meet with our vendors for helpful hints!
LOCATION:Knudson Lumber 1791 Vantage Hwy Ellensburg
UID:e.40.10936
SEQUENCE:3
DTSTAMP:20260419T143954Z
URL:http://business.kittitascountychamber.com/events/details/ladies-night-04-03-2014-10936
END:VEVENT

END:VCALENDAR
