BEGIN:VCALENDAR
VERSION:2.0
PRODID:-//ChamberMaster//Event Calendar 2.0//EN
METHOD:PUBLISH
X-PUBLISHED-TTL:P3D
REFRESH-INTERVAL:P3D
CALSCALE:GREGORIAN
BEGIN:VEVENT
DTSTART:20130501T010000Z
DTEND:20130501T030000Z
X-MICROSOFT-CDO-ALLDAYEVENT:FALSE
SUMMARY:Ladies Night Out- Mountain View Meadows
DESCRIPTION:Join us at Mountain View Meadows for Ladies Night Out.\n\n\n\nThe following vendors will be on site.\n\nPaparazzi Jewelry\n\n31 Gifts\n\nMary Kay\n\nLemongrass Spa\n\n\n\nRefreshments and snacks will be served
X-ALT-DESC;FMTTYPE=text/html:Join us at Mountain View Meadows for Ladies Night Out.<br />\n<br />\nThe following vendors will be on site.<br />\nPaparazzi Jewelry<br />\n31 Gifts<br />\nMary Kay<br />\nLemongrass Spa<br />\n<br />\nRefreshments and snacks will be served
LOCATION:Mountain View Meadows 1008 E. Mountain View Ave Ellensburg
UID:e.40.10281
SEQUENCE:3
DTSTAMP:20260420T100517Z
URL:http://business.kittitascountychamber.com/events/details/ladies-night-out-mountain-view-meadows-04-30-2013-10281
END:VEVENT

END:VCALENDAR
