BEGIN:VCALENDAR
VERSION:2.0
PRODID:-//ChamberMaster//Event Calendar 2.0//EN
METHOD:PUBLISH
X-PUBLISHED-TTL:P3D
REFRESH-INTERVAL:P3D
CALSCALE:GREGORIAN
BEGIN:VEVENT
DTSTART:20140423T010000Z
DTEND:20140423T030000Z
X-MICROSOFT-CDO-ALLDAYEVENT:FALSE
SUMMARY:Latina Activist discusses Equality for Farm Workers
DESCRIPTION:Tuesday\, April 22 6 p.m. Black Hall 151 Free Latina activist and widely recognized farm worker and rural justice leader\, Rosalinda Guillen\, will share her wisdom with audiences Tuesday\, April 22 at 6 p.m. in Black Hall 151. This event is free and open to the public. Guillen will discuss how social change is happening in agricultural communities and how to create a culturally appropriate cooperative development center in order to support local farmworkers in their efforts to establish worker organizations. For more information\, contact the Center for Leadership and Community Engagement (CLCE) at 509-963-1850 or clce@cwu.edu. This event is sponsored by Student Success\, CLCE\, University Advancement\, Campus Life\, 88.1 The Burg\, Latino/a Latin American Studies\, CDSJ\, CAMP\, Museum of Culture & Environment\, African and Black Studies\, and Office of Admissions.
X-ALT-DESC;FMTTYPE=text/html:Tuesday\, April 22 6 p.m. Black Hall 151 Free Latina activist and widely recognized farm worker and rural justice leader\, Rosalinda Guillen\, will share her wisdom with audiences Tuesday\, April 22 at 6 p.m. in Black Hall 151. This event is free and open to the public. Guillen will discuss how social change is happening in agricultural communities and how to create a culturally appropriate cooperative development center in order to support local farmworkers in their efforts to establish worker organizations. For more information\, contact the Center for Leadership and Community Engagement (CLCE) at 509-963-1850 or clce@cwu.edu. This event is sponsored by Student Success\, CLCE\, University Advancement\, Campus Life\, 88.1 The Burg\, Latino/a Latin American Studies\, CDSJ\, CAMP\, Museum of Culture &amp\; Environment\, African and Black Studies\, and Office of Admissions.
LOCATION:black hall 151
UID:e.40.11356
SEQUENCE:3
DTSTAMP:20260419T144026Z
URL:http://business.kittitascountychamber.com/events/details/latina-activist-discusses-equality-for-farm-workers-04-22-2014-11356
END:VEVENT

END:VCALENDAR
