BEGIN:VCALENDAR
VERSION:2.0
PRODID:-//ChamberMaster//Event Calendar 2.0//EN
METHOD:PUBLISH
X-PUBLISHED-TTL:P3D
REFRESH-INTERVAL:P3D
CALSCALE:GREGORIAN
BEGIN:VEVENT
DTSTART:20130920T003000Z
DTEND:20130920T013000Z
X-MICROSOFT-CDO-ALLDAYEVENT:FALSE
SUMMARY:Life with Arthritis
DESCRIPTION:Are you one of the more than fifty million adults in the U.S. who has been diagnosed with arthritis? Get a local perspective from nationally recognized physician Gary Bos of KVH Orthopedics\, as he gives a free talk on life with arthritis. Life with Arthritis will be held at 5:30 p.m. on September 19th\, at KVH Family Medicine-Cle Elum\, located behind McDonalds at 201 Alpha Way in Cle Elum.
X-ALT-DESC;FMTTYPE=text/html:Are you one of the more than fifty million adults in the U.S. who has been diagnosed with arthritis? Get a local perspective from nationally recognized physician Gary Bos of KVH Orthopedics\, as he gives a free talk on life with arthritis. Life with Arthritis will be held at 5:30 p.m. on September 19th\, at KVH Family Medicine-Cle Elum\, located behind McDonalds at 201 Alpha Way in Cle Elum. 
LOCATION:KVH Family Medicine - Cle Elum
UID:e.40.10428
SEQUENCE:3
DTSTAMP:20260420T015409Z
URL:http://business.kittitascountychamber.com/events/details/life-with-arthritis-09-19-2013-10428
END:VEVENT

END:VCALENDAR
